Workbook

Sheet Berechnung
A1: Schlussrechnung
A3: Liniennummer
A4: Regiobuslinie
A5: Antragsteller
A6: Betriebsstart (Fahrplanjahr)
A7: Förderhöchstsumme
A8: Jährliche Mehrkosten
A9: Landesdesign | B9: Ja
B12: =IF(B6="","",B6) | C12: =IF($B$6="","",B12+1) | D12: =IF($B$6="","",C12+1) | E12: =IF($B$6="","",D12+1) | F12: =IF($B$6="","",E12+1) | G12: =IF($B$6="","",F12+1) | H12: Gesamtzeit
A13: Falls sich die Förderperiode im ersten und/oder letzten Fahrplanjahr nicht über ein vollständiges Fahrplanjahr erstreckt, geben Sie bitte die Anzahl der Tage an, die der Förderperiode zugeordnet werden können.
A14: Anzahl Tage
A15: Bitte den Aufwand, Erlöse, Förderanspruch und Auszahlung aus den Mittelanforderungen für jedes Jahr übernehmen.
A16: Aufwand angemeldet | H16: =SUM(B16:F16) -> 0
A17: Erlös angemeldet | H17: =SUM(B17:F17) -> 0
A18: Defizit angemeldet | H18: =H16-H17 -> 0
A19: Förderanspruch angemeldet (50 % oder 60 %) | H19: =SUM(B19:F19) -> 0
A20: Auszahlung (1. Jahr 80 %; 2. Jahr 90 %) | H20: =SUM(B20:F20) -> 0
A22: Nachrichtlich: Einbehalten wegen Abschlagszahlung | B22: =IF(B14="","",B19-B20) | C22: =IF(C14="","",C19-C20) | D22: =IF(D14="","",D19-D20) | E22: =IF(E14="","",E19-E20) | F22: =IF(F14="","",F19-F20) | G22: =IF(G14="","",G19-G20) | H22: =SUM(B22:F22) -> 0
A25: Schlussreichnung | B25: =B12 | C25: =C12 | D25: =D12 | E25: =E12 | F25: =F12 | G25: =G12 | H25: Gesamtzeit
A26: Bitte tragen Sie den BW-Index für das jeweilige Jahr ein.
A27: BW-Index
A29: Tatsächlicher Aufwand (Spitzabrechnung) | B29: =IF(B14="","",ROUND(B8*(B14/365)*(1+B27),2)) | C29: =IF(C14="","",ROUND((B8*(1+B27))*(C14/365)*(1+C27),2)) | D29: =IF(D14="","",ROUND(C29*(D14/365)*(1+D27),2)) | E29: =IF(E14="","",ROUND(D29*(E14/365)*(1+E27),2)) | F29: =IF(F14="","",ROUND(E29*(F14/365)*(1+F27),2)) | G29: =IF(G14="","",ROUND(F29*(G14/365)*(1+G27),2)) | H29: =SUM(B29:F29) -> 0
A30: Fahrtausfall | H30: =SUM(B30:F30) -> 0
A31: Aufwand gem. Schlussrechnung | B31: =IF(B14="","",B29-B30) | C31: =IF(C14="","",C29-C30) | D31: =IF(D14="","",D29-D30) | E31: =IF(E14="","",E29-E30) | F31: =IF(F14="","",F29-F30) | G31: =IF(G14="","",G29-G30) | H31: =H29-H30 -> 0
A32: Erlös gem. Schlussrechnung | B32: =IF(B14="","",'Gesamterlösermittlung Jahr 1'!C15) | C32: =IF(C14="","",'Gesamterlösermittlung Jahr 2'!C15) | D32: =IF(D14="","",'Gesamterlösermittlung Jahr 3'!C15) | E32: =IF(E14="","",'Gesamterlösermittlung Jahr 4'!C15) | F32: =IF(F14="","",'Gesamterlösermittlung Jahr 5'!C15) | G32: =IF(G14="","",'Gesamterlösermittlung Jahr 6'!C15) | H32: =SUM(B32:F32) -> 0
A33: Defizit gem. Schlussrechnung | B33: =IF(B14="","",B31-B32) | C33: =IF(C14="","",C31-C32) | D33: =IF(D14="","",D31-D32) | E33: =IF(E14="","",E31-E32) | F33: =IF(F14="","",F31-F32) | G33: =IF(G14="","",G31-G32) | H33: =H31-H32 -> 0
A35: Förderanspruch gem. Schlussrechnung (50 % oder 60 %) | B35: =IF(B14="","",IF($B$9="JA",B33*0.6,B33*0.5)) | C35: =IF(C14="","",IF($B$9="JA",C33*0.6,C33*0.5)) | D35: =IF(D14="","",IF($B$9="JA",D33*0.6,D33*0.5)) | E35: =IF(E14="","",IF($B$9="JA",E33*0.6,E33*0.5)) | F35: =IF(F14="","",IF($B$9="JA",F33*0.6,F33*0.5)) | G35: =IF(G14="","",IF($B$9="JA",G33*0.6,G33*0.5)) | H35: =SUM(B35:G35) -> 0
A36: Differenz zu den geleisteten Auszahlungen | B36: =IF(B14="","",B35-B20) | C36: =IF(C14="","",C35-C20) | D36: =IF(D14="","",D35-D20) | E36: =IF(E14="","",E35-E20) | F36: =IF(F14="","",F35-F20) | G36: =IF(G14="","",G35-G20) | H36: =H35-H20 -> 0
A37: nach Berücksichtigung FHS | H37: =IF(B7<H35,B7-H20,H36) -> 0

Sheet Gesamterlösermittlung Jahr 1
A1: Gesamterlösermittlung für Linien ohne eigenwirtschaftlich erbrachter Kernleistung
A2: Erlöse aus dem Jahr | B2: =Berechnung!B25
A4: Der Linie zuzuscheidende… | D4: Bemerkungen
B5: Fahrgelderlöse im Abrechnungsjahr - alle Fahrten
A6: + | B6: §15 ÖPNVG-Mittel
B7: § 231 SGB-Satz | C7: 2
A8: + | B8: § 231 SGB-Mittel | C8: =ROUND(C5*C7,2) -> 0
A9: + | B9: Ausgleichsleistungen für das Deutschlandticket (ab Jahr 2023 erforderlich)
A10: + | B10: Ausgleichsleistungen für das 9 Euro Ticket ( für das Jahr 2022)
A11: + | B11: Corona Rettungsschirmgelder (für die Jahre 2020, 2021, 2022 )
A12: + | B12: § 9 ÖPNVG-Mittel od. Verbundbedingte Lasten
A13: + | B13: sonstige Einnahmen
A14: + | B14: sonstige Einnahmen
A15: = | B15: Gesamterlös des Abrechnungsjahres | C15: =SUM(C5+C6+C8+C9+C10+C11+C12+C13+C14) -> 0
A19: Checkliste | B19: Erforderlich Unterlagen / Angaben | C19: Bitte mit X bestätigen | D19: Bemerkungen
B20: Fahrgelderlöse ausgewiesen (auf Basis der Erhebungen)
B21: Berechnung der Fahrgelderlöse anhand des linienspezifischen Erlössatzes ist dargestellt
B22: Fahrkartenmix inklusive monetärer Bewertung von Ticketarten liegt vor
B23: §15 ÖPNVG-Mittel sind ausgewiesen
B24: § 231 SGB-Mittel-Satz ist ausgewiesen
B25: Ausgleichsleistungen für das Deutschlandticket sind ausgewiesen
B26: Ausgleichsleistungen für das 9 Euro Ticket ausgewiesen oder nicht erhalten
B27: Rettungsschirmgelder für die Jahre 2020/2021/2022 ausgewiesen oder nicht erhalten
B28: § 9 ÖPNVG-Mittel od. Verbundbedingte Lasten
B29: weitere Ausgleichsleistungen wurden an den Landkreis ausgezahlt (wenn ja ausgwählt: bitte Auflistung der ausgezahlten Mittel im Feld Bemerkungen eintragen) | C29: Nein

Sheet Gesamterlösermittlung Jahr  2
A1: Gesamterlösermittlung für Linien ohne eigenwirtschaftlich erbrachter Kernleistung
A2: Erlöse aus dem Jahr | B2: =Berechnung!B25+1 -> #VALUE!
A4: Der Linie zuzuscheidende… | D4: Bemerkungen
B5: Fahrgelderlöse im Abrechnungsjahr - alle Fahrten
A6: + | B6: §15 ÖPNVG-Mittel
B7: § 231 SGB-Satz | C7: 0
A8: + | B8: § 231 SGB-Mittel | C8: =ROUND(C5*C7,2) -> 0
A9: + | B9: Ausgleichsleistungen für das Deutschlandticket (ab Jahr 2023 erforderlich)
A10: + | B10: Ausgleichsleistungen für das 9 Euro Ticket ( für das Jahr 2022)
A11: + | B11: Corona Rettungsschirmgelder (für die Jahre 2020, 2021, 2022 )
A12: + | B12: § 9 ÖPNVG-Mittel od. Verbundbedingte Lasten
A13: + | B13: sonstige Einnahmen
A14: + | B14: sonstige Einnahmen
A15: = | B15: Gesamterlös des Abrechnungsjahres | C15: =SUM(C5+C6+C8+C9+C10+C11+C12+C13+C14) -> 0
A19: Checkliste | B19: Erforderlich Unterlagen / Angaben | C19: Bitte mit X bestätigen | D19: Bemerkungen
B20: Fahrgelderlöse ausgewiesen (auf Basis der Erhebungen) | C20: x
B21: Berechnung der Fahrgelderlöse anhand des linienspezifischen Erlössatzes ist dargestellt | C21: x
B22: Fahrkartenmix inklusive monetärer Bewertung von Ticketarten liegt vor | C22: x
B23: §15 ÖPNVG-Mittel sind ausgewiesen | C23: x
B24: § 231 SGB-Mittel-Satz ist ausgewiesen | C24: x
B25: Ausgleichsleistungen für das Deutschlandticket sind ausgewiesen | C25: x
B26: Ausgleichsleistungen für das 9 Euro Ticket ausgewiesen oder nicht erhalten | C26: x
B27: Rettungsschirmgelder für die Jahre 2020/2021/2022 ausgewiesen oder nicht erhalten | C27: x
B28: § 9 ÖPNVG-Mittel od. Verbundbedingte Lasten | C28: x
B29: weitere Ausgleichsleistungen wurden an den Landkreis ausgezahlt (wenn ja ausgwählt: bitte Auflistung der ausgezahlten Mittel im Feld Bemerkungen eintragen) | C29: Ja

Sheet Gesamterlösermittlung Jahr  3
A1: Gesamterlösermittlung für Linien ohne eigenwirtschaftlich erbrachter Kernleistung
A2: Erlöse aus dem Jahr | B2: =Berechnung!B25+2 -> #VALUE!
A4: Der Linie zuzuscheidende… | D4: Bemerkungen
B5: Fahrgelderlöse im Abrechnungsjahr - alle Fahrten
A6: + | B6: §15 ÖPNVG-Mittel
B7: § 231 SGB-Satz | C7: 0
A8: + | B8: § 231 SGB-Mittel | C8: =ROUND(C5*C7,2) -> 0
A9: + | B9: Ausgleichsleistungen für das Deutschlandticket (ab Jahr 2023 erforderlich)
A10: + | B10: Ausgleichsleistungen für das 9 Euro Ticket ( für das Jahr 2022)
A11: + | B11: Corona Rettungsschirmgelder (für die Jahre 2020, 2021, 2022 )
A12: + | B12: § 9 ÖPNVG-Mittel od. Verbundbedingte Lasten
A13: + | B13: sonstige Einnahmen
A14: + | B14: sonstige Einnahmen
A15: = | B15: Gesamterlös des Abrechnungsjahres | C15: =SUM(C5+C6+C8+C9+C10+C11+C12+C13+C14) -> 0
A19: Checkliste | B19: Erforderlich Unterlagen / Angaben | C19: Bitte mit X bestätigen | D19: Bemerkungen
B20: Fahrgelderlöse ausgewiesen (auf Basis der Erhebungen) | C20: x
B21: Berechnung der Fahrgelderlöse anhand des linienspezifischen Erlössatzes ist dargestellt | C21: x
B22: Fahrkartenmix inklusive monetärer Bewertung von Ticketarten liegt vor | C22: x
B23: §15 ÖPNVG-Mittel sind ausgewiesen | C23: x
B24: § 231 SGB-Mittel-Satz ist ausgewiesen | C24: x
B25: Ausgleichsleistungen für das Deutschlandticket sind ausgewiesen | C25: x
B26: Ausgleichsleistungen für das 9 Euro Ticket ausgewiesen oder nicht erhalten | C26: x
B27: Rettungsschirmgelder für die Jahre 2020/2021/2022 ausgewiesen oder nicht erhalten | C27: x
B28: § 9 ÖPNVG-Mittel od. Verbundbedingte Lasten | C28: x
B29: weitere Ausgleichsleistungen wurden an den Landkreis ausgezahlt (wenn ja ausgwählt: bitte Auflistung der ausgezahlten Mittel im Feld Bemerkungen eintragen) | C29: Ja

Sheet Gesamterlösermittlung Jahr  4
A1: Gesamterlösermittlung für Linien ohne eigenwirtschaftlich erbrachter Kernleistung
A2: Erlöse aus dem Jahr | B2: =Berechnung!B25+3 -> #VALUE!
A4: Der Linie zuzuscheidende… | D4: Bemerkungen
B5: Fahrgelderlöse im Abrechnungsjahr - alle Fahrten
A6: + | B6: §15 ÖPNVG-Mittel
B7: § 231 SGB-Satz | C7: 0
A8: + | B8: § 231 SGB-Mittel | C8: =ROUND(C5*C7,2) -> 0
A9: + | B9: Ausgleichsleistungen für das Deutschlandticket (ab Jahr 2023 erforderlich)
A10: + | B10: Ausgleichsleistungen für das 9 Euro Ticket ( für das Jahr 2022)
A11: + | B11: Corona Rettungsschirmgelder (für die Jahre 2020, 2021, 2022 )
A12: + | B12: § 9 ÖPNVG-Mittel od. Verbundbedingte Lasten
A13: + | B13: sonstige Einnahmen
A14: + | B14: sonstige Einnahmen
A15: = | B15: Gesamterlös des Abrechnungsjahres | C15: =SUM(C5+C6+C8+C9+C10+C11+C12+C13+C14) -> 0
A19: Checkliste | B19: Erforderlich Unterlagen / Angaben | C19: Bitte mit X bestätigen | D19: Bemerkungen
B20: Fahrgelderlöse ausgewiesen (auf Basis der Erhebungen) | C20: x
B21: Berechnung der Fahrgelderlöse anhand des linienspezifischen Erlössatzes ist dargestellt | C21: x
B22: Fahrkartenmix inklusive monetärer Bewertung von Ticketarten liegt vor | C22: x
B23: §15 ÖPNVG-Mittel sind ausgewiesen | C23: x
B24: § 231 SGB-Mittel-Satz ist ausgewiesen | C24: x
B25: Ausgleichsleistungen für das Deutschlandticket sind ausgewiesen | C25: x
B26: Ausgleichsleistungen für das 9 Euro Ticket ausgewiesen oder nicht erhalten | C26: x
B27: Rettungsschirmgelder für die Jahre 2020/2021/2022 ausgewiesen oder nicht erhalten | C27: x
B28: § 9 ÖPNVG-Mittel od. Verbundbedingte Lasten | C28: x
B29: weitere Ausgleichsleistungen wurden an den Landkreis ausgezahlt (wenn ja ausgwählt: bitte Auflistung der ausgezahlten Mittel im Feld Bemerkungen eintragen) | C29: Ja

Sheet Gesamterlösermittlung Jahr 5
A1: Gesamterlösermittlung für Linien ohne eigenwirtschaftlich erbrachter Kernleistung
A2: Erlöse aus dem Jahr | B2: =Berechnung!B25+4 -> #VALUE!
A4: Der Linie zuzuscheidende… | D4: Bemerkungen
B5: Fahrgelderlöse im Abrechnungsjahr - alle Fahrten
A6: + | B6: §15 ÖPNVG-Mittel
B7: § 231 SGB-Satz | C7: 0
A8: + | B8: § 231 SGB-Mittel | C8: =ROUND(C5*C7,2) -> 0
A9: + | B9: Ausgleichsleistungen für das Deutschlandticket (ab Jahr 2023 erforderlich)
A10: + | B10: Ausgleichsleistungen für das 9 Euro Ticket ( für das Jahr 2022)
A11: + | B11: Corona Rettungsschirmgelder (für die Jahre 2020, 2021, 2022 )
A12: + | B12: § 9 ÖPNVG-Mittel od. Verbundbedingte Lasten
A13: + | B13: sonstige Einnahmen
A14: + | B14: sonstige Einnahmen
A15: = | B15: Gesamterlös des Abrechnungsjahres | C15: =SUM(C5+C6+C8+C9+C10+C11+C12+C13+C14) -> 0
A19: Checkliste | B19: Erforderlich Unterlagen / Angaben | C19: Bitte mit X bestätigen | D19: Bemerkungen
B20: Fahrgelderlöse ausgewiesen (auf Basis der Erhebungen) | C20: x
B21: Berechnung der Fahrgelderlöse anhand des linienspezifischen Erlössatzes ist dargestellt | C21: x
B22: Fahrkartenmix inklusive monetärer Bewertung von Ticketarten liegt vor | C22: x
B23: §15 ÖPNVG-Mittel sind ausgewiesen | C23: x
B24: § 231 SGB-Mittel-Satz ist ausgewiesen | C24: x
B25: Ausgleichsleistungen für das Deutschlandticket sind ausgewiesen | C25: x
B26: Ausgleichsleistungen für das 9 Euro Ticket ausgewiesen oder nicht erhalten | C26: x
B27: Rettungsschirmgelder für die Jahre 2020/2021/2022 ausgewiesen oder nicht erhalten | C27: x
B28: § 9 ÖPNVG-Mittel od. Verbundbedingte Lasten | C28: x
B29: weitere Ausgleichsleistungen wurden an den Landkreis ausgezahlt (wenn ja ausgwählt: bitte Auflistung der ausgezahlten Mittel im Feld Bemerkungen eintragen) | C29: Ja

Sheet Gesamterlösermittlung Jahr 6
A1: Gesamterlösermittlung für Linien ohne eigenwirtschaftlich erbrachter Kernleistung
A2: Erlöse aus dem Jahr | B2: =Berechnung!B25+5 -> #VALUE!
A4: Der Linie zuzuscheidende… | D4: Bemerkungen
B5: Fahrgelderlöse im Abrechnungsjahr - alle Fahrten
A6: + | B6: §15 ÖPNVG-Mittel
B7: § 231 SGB-Satz | C7: 0
A8: + | B8: § 231 SGB-Mittel | C8: =ROUND(C5*C7,2) -> 0
A9: + | B9: Ausgleichsleistungen für das Deutschlandticket (ab Jahr 2023 erforderlich)
A10: + | B10: Ausgleichsleistungen für das 9 Euro Ticket ( für das Jahr 2022)
A11: + | B11: Corona Rettungsschirmgelder (für die Jahre 2020, 2021, 2022 )
A12: + | B12: § 9 ÖPNVG-Mittel od. Verbundbedingte Lasten
A13: + | B13: sonstige Einnahmen
A14: + | B14: sonstige Einnahmen
A15: = | B15: Gesamterlös des Abrechnungsjahres | C15: =SUM(C5+C6+C8+C9+C10+C11+C12+C13+C14) -> 0
A19: Checkliste | B19: Erforderlich Unterlagen / Angaben | C19: Bitte mit X bestätigen | D19: Bemerkungen
B20: Fahrgelderlöse ausgewiesen (auf Basis der Erhebungen) | C20: x
B21: Berechnung der Fahrgelderlöse anhand des linienspezifischen Erlössatzes ist dargestellt | C21: x
B22: Fahrkartenmix inklusive monetärer Bewertung von Ticketarten liegt vor | C22: x
B23: §15 ÖPNVG-Mittel sind ausgewiesen | C23: x
B24: § 231 SGB-Mittel-Satz ist ausgewiesen | C24: x
B25: Ausgleichsleistungen für das Deutschlandticket sind ausgewiesen | C25: x
B26: Ausgleichsleistungen für das 9 Euro Ticket ausgewiesen oder nicht erhalten | C26: x
B27: Rettungsschirmgelder für die Jahre 2020/2021/2022 ausgewiesen oder nicht erhalten | C27: x
B28: § 9 ÖPNVG-Mittel od. Verbundbedingte Lasten | C28: x
B29: weitere Ausgleichsleistungen wurden an den Landkreis ausgezahlt (wenn ja ausgwählt: bitte Auflistung der ausgezahlten Mittel im Feld Bemerkungen eintragen) | C29: Ja

Sheet Fahrgastzahlen 
A1: Fahrgastzahlen
A3: Liniennummer
A4: Regiobuslinie mit Liniennummer
A5: Antragsteller
B7: =IF(Berechnung!B12="","",Berechnung!B12) | C7: =IF(Berechnung!C12="","",Berechnung!C12) | D7: =IF(Berechnung!D12="","",Berechnung!D12) | E7: =IF(Berechnung!E12="","",Berechnung!E12) | F7: =IF(Berechnung!F12="","",Berechnung!F12) | G7: =IF(Berechnung!F12="","",Berechnung!F12+1) | H7: Gesamt
A8: Anzahl Fahrgäste | H8: =SUM(B8:G8) -> 0
A9: Steigerung | C9: =IF(C8="","",(C8/B8)-1) | D9: =IF(D8="","",(D8/C8)-1) | E9: =IF(E8="","",(E8/D8)-1) | F9: =IF(F8="","",(F8/E8)-1) | G9: =IF(G8="","",(G8/F8)-1) | H9: {=IF(B8="","",INDEX(C8:G8,COUNT(C8:G8))/B8-1)}
A11: Fahrgäste -Bei einer Anbindung eines Mittelzentrums an den SPNV im Verdichtungsraum: min 200.000 -Bei einer Anbindung an ein Mittelzentrum / einen Lückenschluss im ländlichen Raum und in einer Randzone Verdichtungsraum: min 100.000 -Bei einer Anbindung an ein Unterzentrum an den SPNV: min 60.000 Steigerung Fahrgastzahlen 3% p.a. in den ersten fünf Betriebsjahren, danach 1,5 %
A17: Bemerkungen
