Workbook

Sheet Berechnung
A1: Schlussrechnung
A3: Liniennummer
A4: Regiobuslinie
A5: Antragsteller
A6: Betriebsstart (Fahrplanjahr)
A7: Förderhöchstsumme
A8: Jährliche Mehrkosten
A9: Landesdesign | B9: Nein
B12: =IF(B6="","",B6) | C12: =IF($B$6="","",B12+1) | D12: =IF($B$6="","",C12+1) | E12: =IF($B$6="","",D12+1) | F12: =IF($B$6="","",E12+1) | G12: Gesamtzeit
A13: Falls sich die Förderperiode im ersten und/oder letzten Fahrplanjahr nicht über ein vollständiges Fahrplanjahr erstreckt, geben Sie bitte die Anzahl der Tage an, die der Förderperiode zugeordnet werden können.
A14: Anzahl Tage
A15: Bitte den Aufwand, Erlöse, Förderanspruch und Auszahlung aus den Mittelanforderungen für jedes Jahr übernehmen.
A16: Aufwand angemeldet | G16: =SUM(B16:F16) -> 0
A17: Erlös angemeldet | G17: =SUM(B17:F17) -> 0
A18: Defizit angemeldet | G18: =G16-G17 -> 0
A19: Förderanspruch angemeldet (50 % oder 60 %) | G19: =SUM(B19:F19) -> 0
A20: Auszahlung (1. Jahr 80 %; 2. Jahr 90 %) | G20: =SUM(B20:F20) -> 0
A22: Nachrichtlich: Einbehalten wegen Abschlagszahlung | B22: =IF(B14="","",B19-B20) | C22: =IF(C14="","",C19-C20) | D22: =IF(D14="","",D19-D20) | E22: =IF(E14="","",E19-E20) | F22: =IF(F14="","",F19-F20) | G22: =SUM(B22:F22) -> 0
A25: Schlussreichnung | B25: =B12 | C25: =C12 | D25: =D12 | E25: =E12 | F25: =F12 | G25: Gesamtzeit
A26: Bitte tragen Sie den BW-Index für das jeweilige Jahr ein.
A27: BW-Index
A29: Tatsächlicher Aufwand (Spitzabrechnung) | B29: =IF(B14="","",ROUND(B8*(B14/365)*(1+B27),2)) | C29: =IF(C14="","",ROUND((B8*(1+B27))*(C14/365)*(1+C27),2)) | D29: =IF(D14="","",ROUND(C29*(D14/365)*(1+D27),2)) | E29: =IF(E14="","",ROUND(D29*(E14/365)*(1+E27),2)) | F29: =IF(F14="","",ROUND(E29*(F14/365)*(1+F27),2)) | G29: =SUM(B29:F29) -> 0
A30: Fahrtausfall | G30: =SUM(B30:F30) -> 0
A31: Aufwand gem. Schlussrechnung | B31: =IF(B14="","",B29-B30) | C31: =IF(C14="","",C29-C30) | D31: =IF(D14="","",D29-D30) | E31: =IF(E14="","",E29-E30) | F31: =IF(F14="","",F29-F30) | G31: =G29-G30 -> 0
A32: Erlös gem. Schlussrechnung | B32: =IF(B14="","",'Mehrerlösberechnung Jahr 1'!C15) | C32: =IF(C14="","",'Mehrerlösberechnung Jahr 2'!C15) | D32: =IF(D14="","",'Mehrerlösberechnung Jahr 3'!C15) | E32: =IF(E14="","",'Mehrerlösberechnung Jahr 4'!C15) | F32: =IF(F14="","",'Mehrerlösberechnung Jahr 5'!C15) | G32: =SUM(B32:F32) -> 0
A33: Defizit gem. Schlussrechnung | B33: =IF(B14="","",B31-B32) | C33: =IF(C14="","",C31-C32) | D33: =IF(D14="","",D31-D32) | E33: =IF(E14="","",E31-E32) | F33: =IF(F14="","",F31-F32) | G33: =G31-G32 -> 0
A35: Förderanspruch gem. Schlussrechnung (50 % oder 60 %) | B35: =IF(B14="","",IF($B$9="JA",B33*0.6,B33*0.5)) | C35: =IF(C14="","",IF($B$9="JA",C33*0.6,C33*0.5)) | D35: =IF(D14="","",IF($B$9="JA",D33*0.6,D33*0.5)) | E35: =IF(E14="","",IF($B$9="JA",E33*0.6,E33*0.5)) | F35: =IF(F14="","",IF($B$9="JA",F33*0.6,F33*0.5)) | G35: =SUM(B35:F35) -> 0
A36: Differenz zu den geleisteten Auszahlungen | B36: =IF(B14="","",B35-B20) | C36: =IF(C14="","",C35-C20) | D36: =IF(D14="","",D35-D20) | E36: =IF(E14="","",E35-E20) | F36: =IF(F14="","",F35-F20) | G36: =G35-G20 -> 0
A37: nach Berücksichtigung FHS | G37: =IF(B7<G35,B7-G20,G36) -> 0

Sheet Mehrerlösberechnung Jahr 1
A1: Mehrerlösberechnung für Linien mit eigenwirtschaftlich erbrachter Kernleistung
A2: Erlöse aus dem Jahr | B2: =Berechnung!B12
A4: Der Linie zuzuscheidende… | D4: Bemerkungen
B5: Fahrgelderlöse im Abrechnungsjahr - alle Fahrten
A6: + | B6: §15 ÖPNVG-Mittel
B7: § 231 SGB-Satz
A8: + | B8: § 231 SGB-Mittel | C8: =C5*C7 -> 0
A9: + | B9: Ausgleichsleistungen für das Deutschlandticket (ab Jahr 2023 erforderlich)
A10: + | B10: Ausgleichsleistungen für das 9 Euro Ticket ( für das Jahr 2022)
A11: + | B11: Corona Rettungsschirmgelder (für die Jahre 2020, 2021, 2022 )
A12: + | B12: § 9 ÖPNVG-Mittel od. Verbundbedingte Lasten
A13: + | B13: sonstige Einnahmen
A14: - | B14: fortgeschriebene Basiserlöse | C14: =C25 -> 0
A15: = | B15: Gesamterlös des Abrechnungsjahres | C15: =SUM(C5+C6+C8+C9+C10+C11+C12+C13)-C14 -> 0
A17: *Nebenrechnung zur Ermittlung der fortgeschriebenen Basiserlöse
B18: Fahrgelderlöse aus Fahrscheinverkauf im Basisjahr - eigenwirtschaftlicher Kern
A19: x | B19: Tarifanpassungsrate Jahr 1 aus Verbund oder Haustarif
A20: = | B20: fortgeschriebene Tariferlöse | C20: =C18*(1+C19) -> 0
A21: + | B21: § 9 ÖPNVG-Mittel od. Verbundbedingte Lasten
B22: § 231 SGB-Satz sind ausgewiesen | C22: =C7 -> 0
A23: + | B23: § 231 SGB-Mittel der fortgeschriebenen Basiserlöse sind ausgewiesen | C23: =C20*C22 -> 0
A24: + | B24: sonstige Einnahmen im Basisjahr
A25: = | B25: Basiserlöse des Abrechnungsjahres | C25: =SUM(C20+C21+C23+C24) -> 0
A28: Checkliste | B28: Erforderlich Unterlagen / Angaben | C28: Bitte mit X bestätigen | D28: Bemerkungen
B29: Fahrgelderlöse ausgewiesen (auf Basis der Erhebungen)
B30: Berechnung der Fahrgelderlöse anhand des linienspezifischen Erlössatzes ist dargestellt
B31: Fahrkartenmix inklusive monetärer Bewertung von Ticketarten liegt vor
B32: §15 ÖPNVG-Mittel sind ausgewiesen
B33: § 231 SGB-Mittel-Satz ist ausgewiesen
B34: Ausgleichsleistungen für das Deutschlandticket (ab Jahr 2023 erforderlich)
B35: Ausgleichsleistungen für das 9 Euro Ticket ausgewiesen oder nicht erhalten
B36: Rettungsschirmgelder für die Jahre 2020/2021/2022 ausgewiesen oder nicht erhalten
B37: § 9 ÖPNVG-Mittel od. Verbundbedingte Lasten
B38: weitere Ausgleichsleistungen wurden an den Landkreis ausgezahlt (wenn ja ausgewählt: bitte Auflistung der ausgezahlten Mittel im Feld Bemerkungen eintragen) | C38: Ja
B39: Basiserlöse wurden mit entsprechender Tarifanpassungsrate fortgeschrieben
B40: Tarifanapassung erfolgte durch | C40: Verbundtarif

Sheet Mehrerlösberechnung Jahr 2
A1: Mehrerlösberechnung für Linien mit eigenwirtschaftlich erbrachter Kernleistung
A2: Erlöse aus dem Jahr | B2: =Berechnung!C12
A4: Der Linie zuzuscheidende… | D4: Bemerkungen
B5: Fahrgelderlöse im Abrechnungsjahr - alle Fahrten
A6: + | B6: §15 ÖPNVG-Mittel
B7: § 231 SGB-Satz
A8: + | B8: § 231 SGB-Mittel | C8: =C5*C7 -> 0
A9: + | B9: Ausgleichsleistungen für das Deutschlandticket (ab Jahr 2023 erforderlich)
A10: + | B10: Ausgleichsleistungen für das 9 Euro Ticket ( für das Jahr 2022)
A11: + | B11: Corona Rettungsschirmgelder (für die Jahre 2020, 2021, 2022 )
A12: + | B12: § 9 ÖPNVG-Mittel od. Verbundbedingte Lasten
A13: + | B13: sonstige Einnahmen
A14: - | B14: fortgeschriebene Basiserlöse | C14: =C26 -> 0
A15: = | B15: Gesamterlös des Abrechnungsjahres | C15: =SUM(C5+C6+C8+C9+C10+C11+C12+C13)-C14 -> 0
A17: *Nebenrechnung zur Ermittlung der fortgeschriebenen Basiserlöse
B18: Fahrgelderlöse aus Fahrscheinverkauf im Basisjahr - eigenwirtschaftlicher Kern | C18: ='Mehrerlösberechnung Jahr 1'!C18 -> 0
A19: x | B19: Tarifanpassungsrate Jahr 1 aus Verbund oder Haustarif | C19: ='Mehrerlösberechnung Jahr 1'!C19 -> 0
A20: x | B20: Tarifanpassungsrate Jahr 2 aus Verbund oder Haustarif
A21: = | B21: fortgeschriebene Tariferlöse | C21: =C18*(1+C19)*(1+C20) -> 0
A22: + | B22: ÖPNVG-Mittel
B23: § 231 SGB-Satz sind ausgewiesen | C23: =C7 -> 0
A24: + | B24: § 231 SGB-Mittel der fortgeschriebenen Basiserlöse sind ausgewiesen | C24: =C21*C23 -> 0
A25: + | B25: sonstige Einnahmen im Basisjahr
A26: = | B26: Basiserlöse des Abrechnungsjahres | C26: =SUM(C21+C22+C24+C25) -> 0
A29: Checkliste | B29: Erforderlich Unterlagen / Angaben | C29: Bitte mit X bestätigen | D29: Bemerkungen
B30: Fahrgelderlöse ausgewiesen (auf Basis der Erhebungen)
B31: Berechnung der Fahrgelderlöse anhand des linienspezifischen Erlössatzes ist dargestellt
B32: Fahrkartenmix inklusive monetärer Bewertung von Ticketarten liegt vor
B33: §15 ÖPNVG-Mittel sind ausgewiesen
B34: § 231 SGB-Mittel-Satz ist ausgewiesen
B35: Ausgleichsleistungen für das Deutschlandticket (ab Jahr 2023 erforderlich)
B36: Ausgleichsleistungen für das 9 Euro Ticket ausgewiesen oder nicht erhalten
B37: Rettungsschirmgelder für die Jahre 2020/2021/2022 ausgewiesen oder nicht erhalten
B38: § 9 ÖPNVG-Mittel od. Verbundbedingte Lasten
B39: weitere Ausgleichsleistungen wurden an den Landkreis ausgezahlt (wenn ja ausgewählt: bitte Auflistung der ausgezahlten Mittel im Feld Bemerkungen eintragen) | C39: Ja
B40: Basiserlöse wurden mit entsprechender Tarifanpassungsrate fortgeschrieben
B41: Tarifanapassung erfolgte durch | C41: Verbundtarif

Sheet Mehrerlösberechnung Jahr 3
A1: Mehrerlösberechnung für Linien mit eigenwirtschaftlich erbrachter Kernleistung
A2: Erlöse aus dem Jahr | B2: =Berechnung!D12
A4: Der Linie zuzuscheidende… | D4: Bemerkungen
B5: Fahrgelderlöse im Abrechnungsjahr - alle Fahrten
A6: + | B6: §15 ÖPNVG-Mittel
B7: § 231 SGB-Satz
A8: + | B8: § 231 SGB-Mittel | C8: =C5*C7 -> 0
A9: + | B9: Ausgleichsleistungen für das Deutschlandticket (ab Jahr 2023 erforderlich)
A10: + | B10: Ausgleichsleistungen für das 9 Euro Ticket ( für das Jahr 2022)
A11: + | B11: Corona Rettungsschirmgelder (für die Jahre 2020, 2021, 2022 )
A12: + | B12: § 9 ÖPNVG-Mittel od. Verbundbedingte Lasten
A13: + | B13: sonstige Einnahmen
A14: - | B14: fortgeschriebene Basiserlöse | C14: =C27 -> 0
A15: = | B15: Gesamterlös des Abrechnungsjahres | C15: =SUM(C5+C6+C8+C9+C10+C11+C12+C13)-C14 -> 0
A17: *Nebenrechnung zur Ermittlung der fortgeschriebenen Basiserlöse
B18: Fahrgelderlöse aus Fahrscheinverkauf im Basisjahr - eigenwirtschaftlicher Kern | C18: ='Mehrerlösberechnung Jahr 1'!C18 -> 0
A19: x | B19: Tarifanpassungsrate Jahr 1 aus Verbund oder Haustarif | C19: ='Mehrerlösberechnung Jahr 1'!C19 -> 0
A20: x | B20: Tarifanpassungsrate Jahr 2 aus Verbund oder Haustarif | C20: ='Mehrerlösberechnung Jahr 2'!C20 -> 0
A21: x | B21: Tarifanpassungsrate Jahr 3 aus Verbund oder Haustarif
A22: = | B22: fortgeschriebene Tariferlöse | C22: =C18*(1+C19)*(1+C20)*(1+C21) -> 0
A23: + | B23: ÖPNVG-Mittel
B24: § 231 SGB-Satz sind ausgewiesen | C24: =C7 -> 0
A25: + | B25: § 231 SGB-Mittel der fortgeschriebenen Basiserlöse sind ausgewiesen | C25: =C22*C24 -> 0
A26: + | B26: sonstige Einnahmen im Basisjahr
A27: = | B27: Basiserlöse des Abrechnungsjahres | C27: =SUM(C22+C23+C25+C26) -> 0
A30: Checkliste | B30: Erforderlich Unterlagen / Angaben | C30: Bitte mit X bestätigen | D30: Bemerkungen
B31: Fahrgelderlöse ausgewiesen (auf Basis der Erhebungen)
B32: Berechnung der Fahrgelderlöse anhand des linienspezifischen Erlössatzes ist dargestellt
B33: Fahrkartenmix inklusive monetärer Bewertung von Ticketarten liegt vor
B34: §15 ÖPNVG-Mittel sind ausgewiesen
B35: § 231 SGB-Mittel-Satz ist ausgewiesen
B36: Ausgleichsleistungen für das Deutschlandticket (ab Jahr 2023 erforderlich)
B37: Ausgleichsleistungen für das 9 Euro Ticket ausgewiesen oder nicht erhalten
B38: Rettungsschirmgelder für die Jahre 2020/2021/2022 ausgewiesen oder nicht erhalten
B39: § 9 ÖPNVG-Mittel od. Verbundbedingte Lasten
B40: weitere Ausgleichsleistungen wurden an den Landkreis ausgezahlt (wenn ja ausgewählt: bitte Auflistung der ausgezahlten Mittel im Feld Bemerkungen eintragen) | C40: Ja
B41: Basiserlöse wurden mit entsprechender Tarifanpassungsrate fortgeschrieben
B42: Tarifanapassung erfolgte durch | C42: Verbundtarif

Sheet Mehrerlösberechnung Jahr 4
A1: Mehrerlösberechnung für Linien mit eigenwirtschaftlich erbrachter Kernleistung
A2: Erlöse aus dem Jahr | B2: =Berechnung!E12
A4: Der Linie zuzuscheidende… | D4: Bemerkungen
B5: Fahrgelderlöse im Abrechnungsjahr - alle Fahrten
A6: + | B6: §15 ÖPNVG-Mittel
B7: § 231 SGB-Satz
A8: + | B8: § 231 SGB-Mittel | C8: =C5*C7 -> 0
A9: + | B9: Ausgleichsleistungen für das Deutschlandticket (ab Jahr 2023 erforderlich)
A10: + | B10: Ausgleichsleistungen für das 9 Euro Ticket ( für das Jahr 2022)
A11: + | B11: Corona Rettungsschirmgelder (für die Jahre 2020, 2021, 2022 )
A12: + | B12: § 9 ÖPNVG-Mittel od. Verbundbedingte Lasten
A13: + | B13: sonstige Einnahmen
A14: - | B14: fortgeschriebene Basiserlöse | C14: =C28 -> 0
A15: = | B15: Gesamterlös des Abrechnungsjahres | C15: =SUM(C5+C6+C8+C9+C10+C11+C12+C13)-C14 -> 0
A17: *Nebenrechnung zur Ermittlung der fortgeschriebenen Basiserlöse
B18: Fahrgelderlöse aus Fahrscheinverkauf im Basisjahr - eigenwirtschaftlicher Kern | C18: ='Mehrerlösberechnung Jahr 1'!C18 -> 0
A19: x | B19: Tarifanpassungsrate Jahr 1 aus Verbund oder Haustarif | C19: ='Mehrerlösberechnung Jahr 1'!C19 -> 0
A20: x | B20: Tarifanpassungsrate Jahr 2 aus Verbund oder Haustarif | C20: ='Mehrerlösberechnung Jahr 2'!C20 -> 0
A21: x | B21: Tarifanpassungsrate Jahr 3 aus Verbund oder Haustarif | C21: ='Mehrerlösberechnung Jahr 3'!C21 -> 0
A22: x | B22: Tarifanpassungsrate Jahr 4 aus Verbund oder Haustarif
A23: = | B23: fortgeschriebene Tariferlöse | C23: =C18*(1+C19)*(1+C20)*(1+C21)*(1+C22) -> 0
A24: + | B24: ÖPNVG-Mittel
B25: § 231 SGB-Satz sind ausgewiesen | C25: =C7 -> 0
A26: + | B26: § 231 SGB-Mittel der fortgeschriebenen Basiserlöse sind ausgewiesen | C26: =C23*C25 -> 0
A27: + | B27: sonstige Einnahmen im Basisjahr
A28: = | B28: Basiserlöse des Abrechnungsjahres | C28: =SUM(C23+C24+C26+C27) -> 0
A31: Checkliste | B31: Erforderlich Unterlagen / Angaben | C31: Bitte mit X bestätigen | D31: Bemerkungen
B32: Fahrgelderlöse ausgewiesen (auf Basis der Erhebungen)
B33: Berechnung der Fahrgelderlöse anhand des linienspezifischen Erlössatzes ist dargestellt
B34: Fahrkartenmix inklusive monetärer Bewertung von Ticketarten liegt vor
B35: §15 ÖPNVG-Mittel sind ausgewiesen
B36: § 231 SGB-Mittel-Satz ist ausgewiesen
B37: Ausgleichsleistungen für das Deutschlandticket (ab Jahr 2023 erforderlich)
B38: Ausgleichsleistungen für das 9 Euro Ticket ausgewiesen oder nicht erhalten
B39: Rettungsschirmgelder für die Jahre 2020/2021/2022 ausgewiesen oder nicht erhalten
B40: § 9 ÖPNVG-Mittel od. Verbundbedingte Lasten
B41: weitere Ausgleichsleistungen wurden an den Landkreis ausgezahlt (wenn ja ausgewählt: bitte Auflistung der ausgezahlten Mittel im Feld Bemerkungen eintragen) | C41: Ja
B42: Basiserlöse wurden mit entsprechender Tarifanpassungsrate fortgeschrieben
B43: Tarifanapassung erfolgte durch | C43: Verbundtarif

Sheet Mehrerlösberechnung Jahr 5
A1: Mehrerlösberechnung für Linien mit eigenwirtschaftlich erbrachter Kernleistung
A2: Erlöse aus dem Jahr | B2: =Berechnung!F12
A4: Der Linie zuzuscheidende… | D4: Bemerkungen
B5: Fahrgelderlöse im Abrechnungsjahr - alle Fahrten
A6: + | B6: §15 ÖPNVG-Mittel
B7: § 231 SGB-Satz
A8: + | B8: § 231 SGB-Mittel | C8: =C5*C7 -> 0
A9: + | B9: Ausgleichsleistungen für das Deutschlandticket (ab Jahr 2023 erforderlich)
A10: + | B10: Ausgleichsleistungen für das 9 Euro Ticket ( für das Jahr 2022)
A11: + | B11: Corona Rettungsschirmgelder (für die Jahre 2020, 2021, 2022 )
A12: + | B12: § 9 ÖPNVG-Mittel od. Verbundbedingte Lasten
A13: + | B13: sonstige Einnahmen
A14: - | B14: fortgeschriebene Basiserlöse | C14: =C29 -> 0
A15: = | B15: Gesamterlös des Abrechnungsjahres | C15: =SUM(C5+C6+C8+C9+C10+C11+C12+C13)-C14 -> 0
A17: *Nebenrechnung zur Ermittlung der fortgeschriebenen Basiserlöse
B18: Fahrgelderlöse aus Fahrscheinverkauf im Basisjahr - eigenwirtschaftlicher Kern | C18: ='Mehrerlösberechnung Jahr 1'!C18 -> 0
A19: x | B19: Tarifanpassungsrate Jahr 1 aus Verbund oder Haustarif | C19: ='Mehrerlösberechnung Jahr 1'!C19 -> 0
A20: x | B20: Tarifanpassungsrate Jahr 2 aus Verbund oder Haustarif | C20: ='Mehrerlösberechnung Jahr 2'!C20 -> 0
A21: x | B21: Tarifanpassungsrate Jahr 3 aus Verbund oder Haustarif | C21: ='Mehrerlösberechnung Jahr 4'!C21 -> 0
A22: x | B22: Tarifanpassungsrate Jahr 4 aus Verbund oder Haustarif | C22: ='Mehrerlösberechnung Jahr 4'!C22 -> 0
A23: x | B23: Tarifanpassungsrate Jahr 5 aus Verbund oder Haustarif
A24: = | B24: fortgeschriebene Tariferlöse | C24: =C18*(1+C19)*(1+C20)*(1+C21)*(1+C22)*(1+C23) -> 0
A25: + | B25: ÖPNVG-Mittel
B26: § 231 SGB-Satz sind ausgewiesen | C26: =C7 -> 0
A27: + | B27: § 231 SGB-Mittel der fortgeschriebenen Basiserlöse sind ausgewiesen | C27: =C24*C26 -> 0
A28: + | B28: sonstige Einnahmen im Basisjahr
A29: = | B29: Basiserlöse des Abrechnungsjahres | C29: =SUM(C24+C25+C27+C28) -> 0
A32: Checkliste | B32: Erforderlich Unterlagen / Angaben | C32: Bitte mit X bestätigen | D32: Bemerkungen
B33: Fahrgelderlöse ausgewiesen (auf Basis der Erhebungen)
B34: Berechnung der Fahrgelderlöse anhand des linienspezifischen Erlössatzes ist dargestellt
B35: Fahrkartenmix inklusive monetärer Bewertung von Ticketarten liegt vor
B36: §15 ÖPNVG-Mittel sind ausgewiesen
B37: § 231 SGB-Mittel-Satz ist ausgewiesen
B38: Ausgleichsleistungen für das Deutschlandticket (ab Jahr 2023 erforderlich)
B39: Ausgleichsleistungen für das 9 Euro Ticket ausgewiesen oder nicht erhalten
B40: Rettungsschirmgelder für die Jahre 2020/2021/2022 ausgewiesen oder nicht erhalten
B41: § 9 ÖPNVG-Mittel od. Verbundbedingte Lasten
B42: weitere Ausgleichsleistungen wurden an den Landkreis ausgezahlt (wenn ja ausgewählt: bitte Auflistung der ausgezahlten Mittel im Feld Bemerkungen eintragen) | C42: Ja
B43: Basiserlöse wurden mit entsprechender Tarifanpassungsrate fortgeschrieben
B44: Tarifanapassung erfolgte durch | C44: Verbundtarif

Sheet Fahrgastzahlen 
A1: Fahrgastzahlen
A3: Liniennummer | B3: =IF([1]Berechnung!B3="","",[1]Berechnung!B3)
A4: Regiobuslinie mit Liniennummer | B4: =IF([1]Berechnung!B4="","",[1]Berechnung!B4)
A5: Antragsteller | B5: =IF([1]Berechnung!B5="","",[1]Berechnung!B5)
B7: =IF(Berechnung!B12="","",Berechnung!B12) | C7: =IF(Berechnung!C12="","",Berechnung!C12) | D7: =IF(Berechnung!D12="","",Berechnung!D12) | E7: =IF(Berechnung!E12="","",Berechnung!E12) | F7: =IF(Berechnung!F12="","",Berechnung!F12) | G7: =IF(Berechnung!F12="","",Berechnung!F12+1) | H7: Gesamt
A8: Anzahl Fahrgäste | H8: =SUM(B8:G8) -> 0
A9: Steigerung | C9: =IF(C8="","",(C8/B8)-1) | D9: =IF(D8="","",(D8/C8)-1) | E9: =IF(E8="","",(E8/D8)-1) | F9: =IF(F8="","",(F8/E8)-1) | G9: =IF(G8="","",(G8/F8)-1) | H9: {=IF(B8="","",INDEX(C8:G8,COUNT(C8:G8))/B8-1)}
A11: Fahrgäste -Bei einer Anbindung eines Mittelzentrums an den SPNV im Verdichtungsraum: min 200.000 -Bei einer Anbindung an ein Mittelzentrum / einen Lückenschluss im ländlichen Raum und in einer Randzone Verdichtungsraum: min 100.000 -Bei einer Anbindung an ein Unterzentrum an den SPNV: min 60.000 Steigerung Fahrgastzahlen 3% p.a. in den ersten fünf Betriebsjahren, danach 1,5 %
A17: Bemerkungen
